BEGIN:VCALENDAR
CALSCALE:GREGORIAN
VERSION:2.0
PRODID:-//klasifikace.jphsw.cz//calendar
REFRESH-INTERVAL;VALUE=DURATION:PT1H
X-PUBLISHED-TTL:PT1H

BEGIN:VTIMEZONE
TZID:Europe/Prague
X-LIC-LOCATION:Europe/Prague
BEGIN:DAYLIGHT
TZOFFSETFROM:+0100
TZOFFSETTO:+0200
TZNAME:CEST
DTSTART:19700329T020000
RRULE:FREQ=YEARLY;BYMONTH=3;BYDAY=-1SU
END:DAYLIGHT
BEGIN:STANDARD
TZOFFSETFROM:+0200
TZOFFSETTO:+0100
TZNAME:CET
DTSTART:19701025T030000
RRULE:FREQ=YEARLY;BYMONTH=10;BYDAY=-1SU
END:STANDARD
END:VTIMEZONE
BEGIN:VEVENT
UID:jphsw-klasifikace-217-118
DTSTAMP:20260420T110413Z
DTSTART;TZID=Europe/Prague:20251023T183000
DTEND;TZID=Europe/Prague:20251023T193000
SUMMARY:Koncert žáků školy
LOCATION:Botevova
END:VEVENT
BEGIN:VEVENT
UID:jphsw-klasifikace-217-119
DTSTAMP:20260420T110413Z
DTSTART;TZID=Europe/Prague:20251113T183000
DTEND;TZID=Europe/Prague:20251113T193000
SUMMARY:Koncert žáků školy
LOCATION:Školní
END:VEVENT
BEGIN:VEVENT
UID:jphsw-klasifikace-217-120
DTSTAMP:20260420T110413Z
DTSTART;TZID=Europe/Prague:20251120T183000
DTEND;TZID=Europe/Prague:20251120T193000
SUMMARY:Koncert žáků školy
LOCATION:Botevova
END:VEVENT
BEGIN:VEVENT
UID:jphsw-klasifikace-217-174
DTSTAMP:20260420T110413Z
DTSTART;TZID=Europe/Prague:20251127T183000
DTEND;TZID=Europe/Prague:20251127T203000
SUMMARY:Koncert pro Modřany
LOCATION:Botevova
END:VEVENT
BEGIN:VEVENT
UID:jphsw-klasifikace-217-302
DTSTAMP:20260420T110413Z
DTSTART;TZID=Europe/Prague:20251205T103000
DTEND;TZID=Europe/Prague:20251205T123000
SUMMARY:Mikulášské taneční představení pro MŠ a ZŠ
LOCATION:Botevova
END:VEVENT
BEGIN:VEVENT
UID:jphsw-klasifikace-217-192
DTSTAMP:20260420T110413Z
DTSTART;TZID=Europe/Prague:20251206T180000
DTEND;TZID=Europe/Prague:20251206T200000
SUMMARY:Vánoční taneční představení Terezy Burešové
LOCATION:Botevova
END:VEVENT
BEGIN:VEVENT
UID:jphsw-klasifikace-217-258
DTSTAMP:20260420T110413Z
DTSTART;TZID=Europe/Prague:20251208T180000
DTEND;TZID=Europe/Prague:20251208T200000
SUMMARY:Třídní koncert M. Vybíralové
LOCATION:Botevova
END:VEVENT
BEGIN:VEVENT
UID:jphsw-klasifikace-217-175
DTSTAMP:20260420T110413Z
DTSTART;TZID=Europe/Prague:20251209T190000
DTEND;TZID=Europe/Prague:20251209T210000
SUMMARY:Vánoční sborový koncert
LOCATION:Botevova
END:VEVENT
BEGIN:VEVENT
UID:jphsw-klasifikace-217-121
DTSTAMP:20260420T110413Z
DTSTART;TZID=Europe/Prague:20251211T183000
DTEND;TZID=Europe/Prague:20251211T193000
SUMMARY:Vánoční koncert
LOCATION:Botevova
END:VEVENT
BEGIN:VEVENT
UID:jphsw-klasifikace-217-195
DTSTAMP:20260420T110413Z
DTSTART;TZID=Europe/Prague:20251212T180000
DTEND;TZID=Europe/Prague:20251212T200000
SUMMARY:Vánoční taneční představení Anny Josephové
LOCATION:Botevova
END:VEVENT
BEGIN:VEVENT
UID:jphsw-klasifikace-217-122
DTSTAMP:20260420T110413Z
DTSTART;TZID=Europe/Prague:20251218T183000
DTEND;TZID=Europe/Prague:20251218T193000
SUMMARY:Česká mše vánoční
LOCATION:Botevova
END:VEVENT
BEGIN:VEVENT
UID:jphsw-klasifikace-217-320
DTSTAMP:20260420T110413Z
DTSTART;TZID=Europe/Prague:20260114T140000
DTEND;TZID=Europe/Prague:20260114T183000
SUMMARY:Akustická zkouška před akcí Radová
LOCATION:Školní 24/4, Praha 4 Braník
END:VEVENT
BEGIN:VEVENT
UID:jphsw-klasifikace-217-123
DTSTAMP:20260420T110413Z
DTSTART;TZID=Europe/Prague:20260122T183000
DTEND;TZID=Europe/Prague:20260122T193000
SUMMARY:Koncert žáků školy
LOCATION:Botevova
END:VEVENT
BEGIN:VEVENT
UID:jphsw-klasifikace-217-124
DTSTAMP:20260420T110413Z
DTSTART;TZID=Europe/Prague:20260212T183000
DTEND;TZID=Europe/Prague:20260212T193000
SUMMARY:Koncert žáků školy
LOCATION:Školní
END:VEVENT
BEGIN:VEVENT
UID:jphsw-klasifikace-217-126
DTSTAMP:20260420T110413Z
DTSTART;TZID=Europe/Prague:20260226T183000
DTEND;TZID=Europe/Prague:20260226T193000
SUMMARY:Koncert žáků školy
LOCATION:Botevova
END:VEVENT
BEGIN:VEVENT
UID:jphsw-klasifikace-217-128
DTSTAMP:20260420T110413Z
DTSTART;TZID=Europe/Prague:20260303T183000
DTEND;TZID=Europe/Prague:20260303T200000
SUMMARY:Koncert soutěžících akordeony klávesy komorní hra
LOCATION:Botevova
END:VEVENT
BEGIN:VEVENT
UID:jphsw-klasifikace-217-345
DTSTAMP:20260420T110413Z
DTSTART;TZID=Europe/Prague:20260303T170000
DTEND;TZID=Europe/Prague:20260303T180000
SUMMARY:Vernisáž výtvarného oddělení na Radnici Prahy 12
LOCATION:Radnice MČ Prahy 12, vestibul
END:VEVENT
BEGIN:VEVENT
UID:jphsw-klasifikace-217-207
DTSTAMP:20260420T110413Z
DTSTART;TZID=Europe/Prague:20260305T183000
DTEND;TZID=Europe/Prague:20260305T203000
SUMMARY:Učitelský koncert
LOCATION:Botevova
END:VEVENT
BEGIN:VEVENT
UID:jphsw-klasifikace-217-127
DTSTAMP:20260420T110413Z
DTSTART;TZID=Europe/Prague:20260312T183000
DTEND;TZID=Europe/Prague:20260312T193000
SUMMARY:Koncert žáků školy
LOCATION:Školní
END:VEVENT
BEGIN:VEVENT
UID:jphsw-klasifikace-217-129
DTSTAMP:20260420T110413Z
DTSTART;TZID=Europe/Prague:20260319T180000
DTEND;TZID=Europe/Prague:20260319T193000
SUMMARY:Koncert klávesového oddělení
LOCATION:Botevova
END:VEVENT
BEGIN:VEVENT
UID:jphsw-klasifikace-217-190
DTSTAMP:20260420T110413Z
DTSTART;TZID=Europe/Prague:20260321T090000
DTEND;TZID=Europe/Prague:20260321T180000
SUMMARY:Taneční soutěžní přehlídka
LOCATION:Botevova
END:VEVENT
BEGIN:VEVENT
UID:jphsw-klasifikace-217-133
DTSTAMP:20260420T110413Z
DTSTART;TZID=Europe/Prague:20260323T170000
DTEND;TZID=Europe/Prague:20260323T180000
SUMMARY:Vernisáž výtvarného oddělení
LOCATION:Botevova
END:VEVENT
BEGIN:VEVENT
UID:jphsw-klasifikace-217-130
DTSTAMP:20260420T110413Z
DTSTART;TZID=Europe/Prague:20260324T180000
DTEND;TZID=Europe/Prague:20260324T193000
SUMMARY:Koncert pěveckého oddělení
LOCATION:Botevova
END:VEVENT
BEGIN:VEVENT
UID:jphsw-klasifikace-217-131
DTSTAMP:20260420T110413Z
DTSTART;TZID=Europe/Prague:20260326T183000
DTEND;TZID=Europe/Prague:20260326T200000
SUMMARY:Společný koncert ZUŠ V.Petrova a ZUŠ A.Voborského
LOCATION:Botevova
END:VEVENT
BEGIN:VEVENT
UID:jphsw-klasifikace-217-181
DTSTAMP:20260420T110413Z
DTSTART;TZID=Europe/Prague:20260328T080000
DTEND;TZID=Europe/Prague:20260328T170000
SUMMARY:Soutěž MŠMT - krajské kolo sborového zpěvu
LOCATION:Botevova
END:VEVENT
BEGIN:VEVENT
UID:jphsw-klasifikace-217-134
DTSTAMP:20260420T110413Z
DTSTART;TZID=Europe/Prague:20260331T183000
DTEND;TZID=Europe/Prague:20260331T200000
SUMMARY:Koncert kytarového oddělení
LOCATION:Botevova
END:VEVENT
BEGIN:VEVENT
UID:jphsw-klasifikace-217-312
DTSTAMP:20260420T110413Z
DTSTART;TZID=Europe/Prague:20260407T183000
DTEND;TZID=Europe/Prague:20260407T203000
SUMMARY:Společný koncert Konzervatoř J. Deyla a ZUŠ A. Voborského
LOCATION:Botevova
END:VEVENT
BEGIN:VEVENT
UID:jphsw-klasifikace-217-347
DTSTAMP:20260420T110413Z
DTSTART;TZID=Europe/Prague:20260408T130000
DTEND;TZID=Europe/Prague:20260408T180000
SUMMARY:Den otevřených dveří
LOCATION:
END:VEVENT
BEGIN:VEVENT
UID:jphsw-klasifikace-217-132
DTSTAMP:20260420T110413Z
DTSTART;TZID=Europe/Prague:20260409T180000
DTEND;TZID=Europe/Prague:20260409T193000
SUMMARY:Společný koncert ZUŠ Stodůlky a ZUŠ A. Voborského
LOCATION:Botevova
END:VEVENT
BEGIN:VEVENT
UID:jphsw-klasifikace-217-136
DTSTAMP:20260420T110413Z
DTSTART;TZID=Europe/Prague:20260414T183000
DTEND;TZID=Europe/Prague:20260414T200000
SUMMARY:Koncert dechového oddělení
LOCATION:Botevova
END:VEVENT
BEGIN:VEVENT
UID:jphsw-klasifikace-217-352
DTSTAMP:20260420T110413Z
DTSTART;TZID=Europe/Prague:20260424T160000
DTEND;TZID=Europe/Prague:20260424T170000
SUMMARY:Akustická zkouška před třídním koncertem
LOCATION:Školní
END:VEVENT
BEGIN:VEVENT
UID:jphsw-klasifikace-217-351
DTSTAMP:20260420T110413Z
DTSTART;TZID=Europe/Prague:20260424T170000
DTEND;TZID=Europe/Prague:20260424T180000
SUMMARY:Třídní koncert M. Cabajové a J. Tkáč
LOCATION:Školní
END:VEVENT
BEGIN:VEVENT
UID:jphsw-klasifikace-217-362
DTSTAMP:20260420T110413Z
DTSTART;TZID=Europe/Prague:20260426T174500
DTEND;TZID=Europe/Prague:20260426T193000
SUMMARY:Třídní koncert Jiřího Housky
LOCATION:Koncertní sál
END:VEVENT
BEGIN:VEVENT
UID:jphsw-klasifikace-217-201
DTSTAMP:20260420T110413Z
DTSTART;TZID=Europe/Prague:20260505T183000
DTEND;TZID=Europe/Prague:20260505T203000
SUMMARY:Koncert klavírního oddělení
LOCATION:Školní
END:VEVENT
BEGIN:VEVENT
UID:jphsw-klasifikace-217-142
DTSTAMP:20260420T110413Z
DTSTART;TZID=Europe/Prague:20260513T180000
DTEND;TZID=Europe/Prague:20260513T193000
SUMMARY:Koncert smyčcového oddělení
LOCATION:Botevova
END:VEVENT
BEGIN:VEVENT
UID:jphsw-klasifikace-217-140
DTSTAMP:20260420T110413Z
DTSTART;TZID=Europe/Prague:20260514T183000
DTEND;TZID=Europe/Prague:20260514T200000
SUMMARY:Moderní inspirace
LOCATION:Botevova
END:VEVENT
BEGIN:VEVENT
UID:jphsw-klasifikace-217-137
DTSTAMP:20260420T110413Z
DTSTART;TZID=Europe/Prague:20260518T183000
DTEND;TZID=Europe/Prague:20260518T200000
SUMMARY:Absolventský koncert I.
LOCATION:Školní
END:VEVENT
BEGIN:VEVENT
UID:jphsw-klasifikace-217-138
DTSTAMP:20260420T110413Z
DTSTART;TZID=Europe/Prague:20260519T183000
DTEND;TZID=Europe/Prague:20260519T200000
SUMMARY:Absolventský koncert II.
LOCATION:Botevova
END:VEVENT
BEGIN:VEVENT
UID:jphsw-klasifikace-217-326
DTSTAMP:20260420T110413Z
DTSTART;TZID=Europe/Prague:20260520T180000
DTEND;TZID=Europe/Prague:20260520T223000
SUMMARY:Třídní koncert T. Radové
LOCATION:Školní
END:VEVENT
BEGIN:VEVENT
UID:jphsw-klasifikace-217-141
DTSTAMP:20260420T110413Z
DTSTART;TZID=Europe/Prague:20260521T183000
DTEND;TZID=Europe/Prague:20260521T193000
SUMMARY:Koncert žáků školy
LOCATION:Školní
END:VEVENT
BEGIN:VEVENT
UID:jphsw-klasifikace-217-185
DTSTAMP:20260420T110413Z
DTSTART;TZID=Europe/Prague:20260523T090000
DTEND;TZID=Europe/Prague:20260523T180000
SUMMARY:Nesoutěžní přehlídka sborových přípravek
LOCATION:Botevova
END:VEVENT
BEGIN:VEVENT
UID:jphsw-klasifikace-217-188
DTSTAMP:20260420T110413Z
DTSTART;TZID=Europe/Prague:20260525T190000
DTEND;TZID=Europe/Prague:20260525T210000
SUMMARY:Otvírání studánek
LOCATION:Botevova
END:VEVENT
BEGIN:VEVENT
UID:jphsw-klasifikace-217-189
DTSTAMP:20260420T110413Z
DTSTART;TZID=Europe/Prague:20260525T150000
DTEND;TZID=Europe/Prague:20260525T190000
SUMMARY:Akustická zkouška před koncertem
LOCATION:Botevova
END:VEVENT
BEGIN:VEVENT
UID:jphsw-klasifikace-217-366
DTSTAMP:20260420T110413Z
DTSTART;TZID=Europe/Prague:20260525T183000
DTEND;TZID=Europe/Prague:20260525T203000
SUMMARY:Třídní koncert V. Adamského
LOCATION:Školní
END:VEVENT
BEGIN:VEVENT
UID:jphsw-klasifikace-217-139
DTSTAMP:20260420T110413Z
DTSTART;TZID=Europe/Prague:20260528T183000
DTEND;TZID=Europe/Prague:20260528T200000
SUMMARY:Absolventský koncert III.
LOCATION:Botevova
END:VEVENT
BEGIN:VEVENT
UID:jphsw-klasifikace-217-339
DTSTAMP:20260420T110413Z
DTSTART;TZID=Europe/Prague:20260604T180000
DTEND;TZID=Europe/Prague:20260604T223000
SUMMARY:Třídní koncert bicí
LOCATION:Školní
END:VEVENT
BEGIN:VEVENT
UID:jphsw-klasifikace-217-196
DTSTAMP:20260420T110413Z
DTSTART;TZID=Europe/Prague:20260606T190000
DTEND;TZID=Europe/Prague:20260606T210000
SUMMARY:Závěrečné taneční představení Terezy Burešové
LOCATION:Divadlo Bravo
END:VEVENT
BEGIN:VEVENT
UID:jphsw-klasifikace-217-197
DTSTAMP:20260420T110413Z
DTSTART;TZID=Europe/Prague:20260607T180000
DTEND;TZID=Europe/Prague:20260607T200000
SUMMARY:Závěrečné taneční představení Anny Josephové
LOCATION:Divadlo Bravo
END:VEVENT
BEGIN:VEVENT
UID:jphsw-klasifikace-217-143
DTSTAMP:20260420T110413Z
DTSTART;TZID=Europe/Prague:20260618T170000
DTEND;TZID=Europe/Prague:20260618T180000
SUMMARY:Koncert nejmladších žáčků školy
LOCATION:Botevova
END:VEVENT
BEGIN:VEVENT
UID:jphsw-klasifikace-217-198
DTSTAMP:20260420T110413Z
DTSTART;TZID=Europe/Prague:20260622T170000
DTEND;TZID=Europe/Prague:20260622T200000
SUMMARY:Rej pod obloukem - taneční festival
LOCATION:Zahrada školy
END:VEVENT
BEGIN:VEVENT
UID:jphsw-klasifikace-217-324
DTSTAMP:20260420T110413Z
DTSTART;TZID=Europe/Prague:20260624T150000
DTEND;TZID=Europe/Prague:20260624T190000
SUMMARY:Zahrada školy
LOCATION:Zahrada školy
END:VEVENT

END:VCALENDAR